Workbook

Sheet 準備1
H1: （自動計算） | P1: （自動計算） | X1: （自動計算） | AD1: （自動計算）
A2: 府省名 | B2: 情報ｼｽﾃﾑID | C2: 情報システム名 | E2: 一括計上分の有無 | H2: 決算額【2020年度(R2)】 | M2: R2 | P2: 決算額【2021年度(R3)】 | U2: R3 | X2: 決算額【2022年度(R4)】 | AA2: R4 | AE2: 備考
D3: システム分類 | E3: 一括計上分を含む | F3: 一括計上分を含まない | H3: 計 | I3: 投資的新規開発・更改 | J3: 投資的改修 | K3: 維持的新規開発・更改 | L3: 維持的改修 | M3: 整備 | N3: 運用等経費 | O3: その他経費 | P3: 計 | Q3: 投資的新規開発・更改 | R3: 投資的改修 | S3: 維持的新規開発・更改 | T3: 維持的改修 | U3: 整備 | V3: 運用等経費 | W3: その他経費 | X3: 計 | Y3: 維持的改修を除く整備経費 | Z3: 維持的改修 | AA3: 整備 | AB3: 運用等経費 | AC3: その他経費 | AD3: R2~R4 決算額合計
F4: 適用除外 | G4: 特別会計、その他
A5: 警察庁 | B5: A000852 | C5: 国家公務員ＩＣカードシステム | D5: ③ | H5: 999372 | I5: 0 | J5: 0 | K5: 0 | L5: 0 | M5: =SUM($I5:$L5) -> 0 | N5: 999372 | O5: 0 | P5: 999372 | Q5: 0 | R5: 0 | S5: 0 | T5: 0 | U5: =SUM($Q5:$T5) -> 0 | V5: 999372 | W5: 0 | X5: 999372 | Y5: 0 | Z5: 0 | AA5: =SUM($Y5:$Z5) -> 0 | AB5: 999372 | AC5: 0 | AD5: 2998116 | AE5: 〇
A6: 警察庁 | B6: A000863 | C6: ＤＮＡ型鑑定支援装置 | D6: ③ | H6: 19948500 | I6: 0 | J6: 0 | K6: 0 | L6: 0 | M6: =SUM($I6:$L6) -> 0 | N6: 19948500 | O6: 0 | P6: 0 | Q6: 0 | R6: 0 | S6: 0 | T6: 0 | U6: =SUM($Q6:$T6) -> 0 | V6: 0 | W6: 0 | X6: 45086250 | Y6: 45086250 | Z6: 0 | AA6: =SUM($Y6:$Z6) -> 45086250 | AB6: 0 | AC6: 0 | AD6: 65034750
A7: 警察庁 | B7: A000874 | C7: 交通事故データ集計システム | D7: ③ | H7: 1916970 | I7: 0 | J7: 0 | K7: 0 | L7: 0 | M7: =SUM($I7:$L7) -> 0 | N7: 1916970 | O7: 0 | P7: 2204774 | Q7: 0 | R7: 0 | S7: 0 | T7: 0 | U7: =SUM($Q7:$T7) -> 0 | V7: 2204774 | W7: 0 | X7: 4157560 | Y7: 0 | Z7: 0 | AA7: =SUM($Y7:$Z7) -> 0 | AB7: 4157560 | AC7: 0 | AD7: 8279304
A8: 警察庁 | B8: A000896 | C8: 全国的情報処理センター用電子計算機 | D8: ② | H8: 2074027150 | I8: 0 | J8: 0 | K8: 0 | L8: 0 | M8: =SUM($I8:$L8) -> 0 | N8: 2074027150 | O8: 0 | P8: 3091701377 | Q8: 1046268344 | R8: 0 | S8: 0 | T8: 0 | U8: =SUM($Q8:$T8) -> 1046268344 | V8: 2045433033 | W8: 0 | X8: 3958109892 | Y8: 1923214392 | Z8: 0 | AA8: =SUM($Y8:$Z8) -> 1923214392 | AB8: 2034895500 | AC8: 0 | AD8: 9123838419
A9: 警察庁 | B9: A000911 | C9: 運転者管理システム（汎用機） | D9: ③ | H9: 665063237 | I9: 142120000 | J9: 0 | K9: 0 | L9: 0 | M9: =SUM($I9:$L9) -> 142120000 | N9: 522943237 | O9: 0 | P9: 901067969 | Q9: 0 | R9: 123530000 | S9: 0 | T9: 0 | U9: =SUM($Q9:$T9) -> 123530000 | V9: 777537969 | W9: 0 | X9: 847433072 | Y9: 70070000 | Z9: 0 | AA9: =SUM($Y9:$Z9) -> 70070000 | AB9: 777363072 | AC9: 0 | AD9: 2413564278
A10: 警察庁 | B10: A000922 | C10: 運転免許証認証局 | D10: ③ | H10: 37784315 | I10: 0 | J10: 0 | K10: 0 | L10: 0 | M10: =SUM($I10:$L10) -> 0 | N10: 37784315 | O10: 0 | P10: 37725896 | Q10: 0 | R10: 0 | S10: 0 | T10: 0 | U10: =SUM($Q10:$T10) -> 0 | V10: 37725896 | W10: 0 | X10: 276521872 | Y10: 238920000 | Z10: 0 | AA10: =SUM($Y10:$Z10) -> 238920000 | AB10: 37601872 | AC10: 0 | AD10: 352032083
A11: 警察庁 | B11: A000933 | C11: 行政情報管理システム | D11: ③ | H11: 67675460 | I11: 9900000 | J11: 0 | K11: 0 | L11: 0 | M11: =SUM($I11:$L11) -> 9900000 | N11: 57775460 | O11: 0 | P11: 818553560 | Q11: 617948771 | R11: 142645767 | S11: 0 | T11: 0 | U11: =SUM($Q11:$T11) -> 760594538 | V11: 57959022 | W11: 0 | X11: 871461900 | Y11: 727082037 | Z11: 80197920 | AA11: =SUM($Y11:$Z11) -> 807279957 | AB11: 64181943 | AC11: 0 | AD11: 1757690920
A12: 警察庁 | B12: A000944 | C12: 警察総合捜査情報システム | D12: ② | H12: 1744253467 | I12: 0 | J12: 0 | K12: 0 | L12: 0 | M12: =SUM($I12:$L12) -> 0 | N12: 1744253467 | O12: 0 | P12: 3000045129 | Q12: 1255948056 | R12: 0 | S12: 0 | T12: 0 | U12: =SUM($Q12:$T12) -> 1255948056 | V12: 1744097073 | W12: 0 | X12: 3381729120 | Y12: 1705492008 | Z12: 0 | AA12: =SUM($Y12:$Z12) -> 1705492008 | AB12: 1676237112 | AC12: 0 | AD12: 8126027716
A13: 警察庁 | B13: A000955 | C13: 指掌紋自動識別システム | D13: ② | H13: 3473688209 | I13: 0 | J13: 0 | K13: 0 | L13: 0 | M13: =SUM($I13:$L13) -> 0 | N13: 3473688209 | O13: 0 | P13: 3711285133 | Q13: 223911542 | R13: 0 | S13: 0 | T13: 0 | U13: =SUM($Q13:$T13) -> 223911542 | V13: 3487373591 | W13: 0 | X13: 3841694493 | Y13: 433637869 | Z13: 0 | AA13: =SUM($Y13:$Z13) -> 433637869 | AB13: 3408056624 | AC13: 0 | AD13: 11026667835
A14: 警察庁 | B14: A000999 | C14: 警察庁ＷＡＮシステム | D14: ② | H14: 1409415692 | I14: 0 | J14: 279384458 | K14: 0 | L14: 0 | M14: =SUM($I14:$L14) -> 279384458 | N14: 1130031234 | O14: 0 | P14: 1767302241 | Q14: 0 | R14: 633251520 | S14: 0 | T14: 0 | U14: =SUM($Q14:$T14) -> 633251520 | V14: 1134050721 | W14: 0 | X14: 1197067312 | Y14: 10670000 | Z14: 0 | AA14: =SUM($Y14:$Z14) -> 10670000 | AB14: 1186397312 | AC14: 0 | AD14: 4373785245
A15: 警察庁 | B15: A001037 | C15: オープンネットワークシステム | D15: ③ | H15: 2002256274 | I15: 0 | J15: 1028842683 | K15: 0 | L15: 0 | M15: =SUM($I15:$L15) -> 1028842683 | N15: 973413591 | O15: 0 | P15: 1234935027 | Q15: 0 | R15: 128700000 | S15: 0 | T15: 0 | U15: =SUM($Q15:$T15) -> 128700000 | V15: 1106235027 | W15: 0 | X15: 1066639550 | Y15: 0 | Z15: 0 | AA15: =SUM($Y15:$Z15) -> 0 | AB15: 1066639550 | AC15: 0 | AD15: 4303830851
A16: 警察庁 | B16: A001048 | C16: 受付システム | D16: ③ | H16: 27198978 | I16: 0 | J16: 0 | K16: 0 | L16: 0 | M16: =SUM($I16:$L16) -> 0 | N16: 27198978 | O16: 0 | P16: 174785475 | Q16: 147065600 | R16: 0 | S16: 0 | T16: 0 | U16: =SUM($Q16:$T16) -> 147065600 | V16: 27719875 | W16: 0 | X16: 26552927 | Y16: 0 | Z16: 0 | AA16: =SUM($Y16:$Z16) -> 0 | AB16: 26552927 | AC16: 0 | AD16: 228537380
A17: 警察庁 | B17: A001071 | C17: 不当要求情報管理機関支援システム | D17: ③ | H17: 15931125 | I17: 0 | J17: 0 | K17: 0 | L17: 0 | M17: =SUM($I17:$L17) -> 0 | N17: 15931125 | O17: 0 | P17: 14260846 | Q17: 0 | R17: 0 | S17: 0 | T17: 0 | U17: =SUM($Q17:$T17) -> 0 | V17: 14260846 | W17: 0 | X17: 78721662 | Y17: 69714810 | Z17: 0 | AA17: =SUM($Y17:$Z17) -> 69714810 | AB17: 9006852 | AC17: 0 | AD17: 108913633
... A23: 警察庁 | B23: A001152 | C23: 鑑定管理システム | D23: ③ | H23: 41673 | I23: 0 | J23: 0 | K23: 0 | L23: 0 | M23: =SUM($I23:$L23) -> 0 | N23: 41673 | O23: 0 | P23: 17380 | Q23: 0 | R23: 0 | S23: 0 | T23: 0 | U23: =SUM($Q23:$T23) -> 0 | V23: 17380 | W23: 0 | X23: 37320 | Y23: 0 | Z23: 0 | AA23: =SUM($Y23:$Z23) -> 0 | AB23: 37320 | AC23: 0 | AD23: 96373
A24: 警察庁 | B24: A001163 | C24: 護衛警備サポートシステム | D24: ③ | F24: ○ | H24: 1164388 | I24: 0 | J24: 0 | K24: 0 | L24: 0 | M24: =SUM($I24:$L24) -> 0 | N24: 1164388 | O24: 0 | P24: 10138642 | Q24: 0 | R24: 0 | S24: 0 | T24: 0 | U24: =SUM($Q24:$T24) -> 0 | V24: 10138642 | W24: 0 | X24: 10782640 | Y24: 0 | Z24: 0 | AA24: =SUM($Y24:$Z24) -> 0 | AB24: 10782640 | AC24: 0 | AD24: 22085670
A25: 警察庁 | B25: A001174 | C25: 護衛警備システム | D25: ③ | F25: ○ | H25: 47480917 | I25: 13561240 | J25: 0 | K25: 0 | L25: 0 | M25: =SUM($I25:$L25) -> 13561240 | N25: 33919677 | O25: 0 | P25: 55954833 | Q25: 0 | R25: 0 | S25: 0 | T25: 0 | U25: =SUM($Q25:$T25) -> 0 | V25: 55954833 | W25: 0 | X25: 56800040 | Y25: 0 | Z25: 0 | AA25: =SUM($Y25:$Z25) -> 0 | AB25: 56800040 | AC25: 0 | AD25: 160235790
A26: 警察庁 | B26: A016208 | C26: 事前旅客情報システム及び外国人個人識別情報認証システム | D26: ③ | H26: 703005309 | I26: 18920000 | J26: 374692275 | K26: 0 | L26: 0 | M26: =SUM($I26:$L26) -> 393612275 | N26: 309393034 | O26: 0 | P26: 849976112 | Q26: 334950000 | R26: 70510000 | S26: 0 | T26: 0 | U26: =SUM($Q26:$T26) -> 405460000 | V26: 444516112 | W26: 0 | X26: 543869210 | Y26: 363066000 | Z26: 0 | AA26: =SUM($Y26:$Z26) -> 363066000 | AB26: 180803210 | AC26: 0 | AD26: 2096850631
A27: 警察庁 | B27: A016219 | C27: 組織犯罪情報管理システム及び特定金融情報データベースシステム | D27: ③ | H27: 467214732 | I27: 0 | J27: 0 | K27: 0 | L27: 0 | M27: =SUM($I27:$L27) -> 0 | N27: 467214732 | O27: 0 | P27: 561920632 | Q27: 89224696 | R27: 0 | S27: 0 | T27: 0 | U27: =SUM($Q27:$T27) -> 89224696 | V27: 472695936 | W27: 0 | X27: 522938328 | Y27: 0 | Z27: 0 | AA27: =SUM($Y27:$Z27) -> 0 | AB27: 522938328 | AC27: 0 | AD27: 1552073692
A28: 警察庁 | B28: A023219 | C28: １１０番アプリシステム | D28: ③ | H28: 75354120 | I28: 0 | J28: 0 | K28: 0 | L28: 0 | M28: =SUM($I28:$L28) -> 0 | N28: 75354120 | O28: 0 | P28: 75159790 | Q28: 0 | R28: 0 | S28: 0 | T28: 0 | U28: =SUM($Q28:$T28) -> 0 | V28: 75159790 | W28: 0 | X28: 223170478 | Y28: 149213655 | Z28: 0 | AA28: =SUM($Y28:$Z28) -> 149213655 | AB28: 73956823 | AC28: 0 | AD28: 373684388
A29: 警察庁 | B29: A023231 | C29: 交通情報ネットワークセキュリティ装置 | D29: ③ | H29: 33116160 | I29: 0 | J29: 0 | K29: 0 | L29: 0 | M29: =SUM($I29:$L29) -> 0 | N29: 33116160 | O29: 0 | P29: 34106160 | Q29: 0 | R29: 990000 | S29: 0 | T29: 0 | U29: =SUM($Q29:$T29) -> 990000 | V29: 33116160 | W29: 0 | X29: 33116160 | Y29: 0 | Z29: 0 | AA29: =SUM($Y29:$Z29) -> 0 | AB29: 33116160 | AC29: 0 | AD29: 100338480
A30: 警察庁 | B30: A023242 | C30: 交通規制情報収集・管理システム | D30: ③ | H30: 81125722 | I30: 20748446 | J30: 0 | K30: 0 | L30: 0 | M30: =SUM($I30:$L30) -> 20748446 | N30: 60377276 | O30: 0 | P30: 35980380 | Q30: 0 | R30: 0 | S30: 0 | T30: 0 | U30: =SUM($Q30:$T30) -> 0 | V30: 35980380 | W30: 0 | X30: 35980380 | Y30: 0 | Z30: 0 | AA30: =SUM($Y30:$Z30) -> 0 | AB30: 35980380 | AC30: 0 | AD30: 153086482
A31: 警察庁 | B31: A023253 | C31: 広域交通管制システム | D31: ③ | H31: 431273452 | I31: 358075253 | J31: 0 | K31: 20900000 | L31: 0 | M31: =SUM($I31:$L31) -> 378975253 | N31: 52298199 | O31: 0 | P31: 194120868 | Q31: 0 | R31: 0 | S31: 0 | T31: 0 | U31: =SUM($Q31:$T31) -> 0 | V31: 194120868 | W31: 0 | X31: 194929445 | Y31: 0 | Z31: 0 | AA31: =SUM($Y31:$Z31) -> 0 | AB31: 194929445 | AC31: 0 | AD31: 820323765
A32: 警察庁 | B32: A024081 | C32: 運転者管理システム | D32: ③ | H32: 586916000 | I32: 586916000 | J32: 0 | K32: 0 | L32: 0 | M32: =SUM($I32:$L32) -> 586916000 | N32: 0 | O32: 0 | P32: 3740797060 | Q32: 3289484000 | R32: 451313060 | S32: 0 | T32: 0 | U32: =SUM($Q32:$T32) -> 3740797060 | V32: 0 | W32: 0 | X32: 1186022749 | Y32: 1141893940 | Z32: 0 | AA32: =SUM($Y32:$Z32) -> 1141893940 | AB32: 44128809 | AC32: 0 | AD32: 5513735809
A33: 警察庁 | B33: A024092 | C33: 共通基盤システム | D33: ③ | H33: 1557074750 | I33: 1557074750 | J33: 0 | K33: 0 | L33: 0 | M33: =SUM($I33:$L33) -> 1557074750 | N33: 0 | O33: 0 | P33: 2967928749 | Q33: 0 | R33: 0 | S33: 0 | T33: 0 | U33: =SUM($Q33:$T33) -> 0 | V33: 2967928749 | W33: 0 | X33: 4309748358 | Y33: 1015608322 | Z33: 0 | AA33: =SUM($Y33:$Z33) -> 1015608322 | AB33: 3294140036 | AC33: 0 | AD33: 8834751857
A34: 警察庁 | B34: A024494 | C34: 運転免許証の更新システム | D34: ③ | H34: 0 | I34: 0 | J34: 0 | K34: 0 | L34: 0 | M34: =SUM($I34:$L34) -> 0 | N34: 0 | O34: 0 | P34: 275036960 | Q34: 229386960 | R34: 45650000 | S34: 0 | T34: 0 | U34: =SUM($Q34:$T34) -> 275036960 | V34: 0 | W34: 0 | X34: 334180000 | Y34: 334180000 | Z34: 0 | AA34: =SUM($Y34:$Z34) -> 334180000 | AB34: 0 | AC34: 0 | AD34: 609216960
A35: 警察庁 | B35: A024519 | C35: 行政手続オンライン化 | D35: ③ | H35: 0 | I35: 0 | J35: 0 | K35: 0 | L35: 0 | M35: =SUM($I35:$L35) -> 0 | N35: 0 | O35: 0 | P35: 14938000 | Q35: 14938000 | R35: 0 | S35: 0 | T35: 0 | U35: =SUM($Q35:$T35) -> 14938000 | V35: 0 | W35: 0 | X35: 3256000 | Y35: 0 | Z35: 0 | AA35: =SUM($Y35:$Z35) -> 0 | AB35: 3256000 | AC35: 0 | AD35: 18194000
A36: 警察庁 | B36: A024520 | C36: 小型無人機等所有者情報等照会システム | D36: ③ | H36: 0 | I36: 0 | J36: 0 | K36: 0 | L36: 0 | M36: =SUM($I36:$L36) -> 0 | N36: 0 | O36: 0 | P36: 360250110 | Q36: 331427910 | R36: 0 | S36: 0 | T36: 0 | U36: =SUM($Q36:$T36) -> 331427910 | V36: 28822200 | W36: 0 | X36: 130749960 | Y36: 0 | Z36: 107360000 | AA36: =SUM($Y36:$Z36) -> 107360000 | AB36: 23389960 | AC36: 0 | AD36: 491000070
A37: 警察庁 | B37: A025303 | C37: 都道府県の交通管制システム | D37: その他 | H37: 1916174000 | I37: 0 | J37: 0 | K37: 0 | L37: 0 | M37: =SUM($I37:$L37) -> 0 | N37: 0 | O37: 1916174000 | P37: 1549418000 | Q37: 0 | R37: 0 | S37: 0 | T37: 0 | U37: =SUM($Q37:$T37) -> 0 | V37: 0 | W37: 1549418000 | X37: 1851663000 | Y37: 0 | Z37: 0 | AA37: =SUM($Y37:$Z37) -> 0 | AB37: 0 | AC37: 1851663000 | AD37: 5317255000
A38: 警察庁 | B38: A025314 | C38: 情報収集用端末 | D38: ③ | F38: ○ | H38: 2549010 | I38: 0 | J38: 0 | K38: 0 | L38: 0 | M38: =SUM($I38:$L38) -> 0 | N38: 2549010 | O38: 0 | P38: 2661126 | Q38: 0 | R38: 0 | S38: 0 | T38: 0 | U38: =SUM($Q38:$T38) -> 0 | V38: 2661126 | W38: 0 | X38: 2465858 | Y38: 0 | Z38: 0 | AA38: =SUM($Y38:$Z38) -> 0 | AB38: 2465858 | AC38: 0 | AD38: 7675994
A39: 警察庁 | B39: A025325 | C39: 国際テロ対策データベースシステム | D39: ③ | F39: ○ | H39: 6317220 | I39: 0 | J39: 0 | K39: 0 | L39: 0 | M39: =SUM($I39:$L39) -> 0 | N39: 6317220 | O39: 0 | P39: 6317220 | Q39: 0 | R39: 0 | S39: 0 | T39: 0 | U39: =SUM($Q39:$T39) -> 0 | V39: 6317220 | W39: 0 | X39: 6116220 | Y39: 0 | Z39: 0 | AA39: =SUM($Y39:$Z39) -> 0 | AB39: 6116220 | AC39: 0 | AD39: 18750660
A40: 警察庁 | B40: A025336 | C40: 国際テロ捜査情報分析支援装置 | D40: ③ | F40: ○ | H40: 2651000 | I40: 0 | J40: 0 | K40: 0 | L40: 0 | M40: =SUM($I40:$L40) -> 0 | N40: 2651000 | O40: 0 | P40: 2072400 | Q40: 0 | R40: 0 | S40: 0 | T40: 0 | U40: =SUM($Q40:$T40) -> 0 | V40: 2072400 | W40: 0 | X40: 0 | Y40: 0 | Z40: 0 | AA40: =SUM($Y40:$Z40) -> 0 | AB40: 0 | AC40: 0 | AD40: 4723400
A41: 警察庁 | B41: A025347 | C41: 情報管理システム等共通経費 | D41: ③ | H41: 713525143 | I41: 0 | J41: 0 | K41: 0 | L41: 0 | M41: =SUM($I41:$L41) -> 0 | N41: 713525143 | O41: 0 | P41: 681044662 | Q41: 0 | R41: 0 | S41: 0 | T41: 0 | U41: =SUM($Q41:$T41) -> 0 | V41: 681044662 | W41: 0 | X41: 300546136 | Y41: 8451617 | Z41: 0 | AA41: =SUM($Y41:$Z41) -> 8451617 | AB41: 292094519 | AC41: 0 | AD41: 1695115941
A42: 警察庁 | B42: A025358 | C42: ＳＮＳ情報検索システム | D42: ③ | H42: 0 | I42: 0 | J42: 0 | K42: 0 | L42: 0 | M42: =SUM($I42:$L42) -> 0 | N42: 0 | O42: 0 | P42: 10065000 | Q42: 0 | R42: 0 | S42: 0 | T42: 0 | U42: =SUM($Q42:$T42) -> 0 | V42: 10065000 | W42: 0 | X42: 6534000 | Y42: 0 | Z42: 0 | AA42: =SUM($Y42:$Z42) -> 0 | AB42: 6534000 | AC42: 0 | AD42: 16599000
A43: 警察庁 | B43: A025369 | C43: 航空機運用総合調整システム（ＦＯＣＳ）（警察庁） | D43: ③ | H43: 0 | I43: 0 | J43: 0 | K43: 0 | L43: 0 | M43: =SUM($I43:$L43) -> 0 | N43: 0 | O43: 0 | P43: 0 | Q43: 0 | R43: 0 | S43: 0 | T43: 0 | U43: =SUM($Q43:$T43) -> 0 | V43: 0 | W43: 0 | X43: 80883000 | Y43: 0 | Z43: 0 | AA43: =SUM($Y43:$Z43) -> 0 | AB43: 80883000 | AC43: 0 | AD43: 80883000
A44: 警察庁 | B44: A025370 | C44: 相談業務・人身安全関連業務等システム | D44: ③ | H44: 0 | I44: 0 | J44: 0 | K44: 0 | L44: 0 | M44: =SUM($I44:$L44) -> 0 | N44: 0 | O44: 0 | P44: 0 | Q44: 0 | R44: 0 | S44: 0 | T44: 0 | U44: =SUM($Q44:$T44) -> 0 | V44: 0 | W44: 0 | X44: 996302780 | Y44: 996302780 | Z44: 0 | AA44: =SUM($Y44:$Z44) -> 996302780 | AB44: 0 | AC44: 0 | AD44: 996302780
A45: 警察庁 | B45: B000512 | C45: ファイル共有ソフト専用端末 | D45: ③ | H45: 186065 | I45: 96140 | J45: 0 | K45: 0 | L45: 0 | M45: =SUM($I45:$L45) -> 96140 | N45: 89925 | O45: 0 | P45: 90592 | Q45: 0 | R45: 0 | S45: 0 | T45: 0 | U45: =SUM($Q45:$T45) -> 0 | V45: 90592 | W45: 0 | X45: 110372 | Y45: 0 | Z45: 0 | AA45: =SUM($Y45:$Z45) -> 0 | AB45: 110372 | AC45: 0 | AD45: 387029
...

Sheet 準備2
E1: 警察庁 | F1: の各システム経費の実績（令和２年度～令和４年度）
Q2: 単位（百万円）
A3: No | B3: 府省名 | C3: 情報ｼｽﾃﾑID | D3: 適用除外 | E3: システム名称 | F3: 令和２年度 | J3: 令和３年度 | N3: 令和４年度
F4: 合計 | G4: 整備 | H4: 運用 | I4: その他 | J4: 合計 | K4: 整備 | L4: 運用 | M4: その他 | N4: 合計 | O4: 整備 | P4: 運用 | Q4: その他
A5: 1 | B5: =準備1!A5 -> 警察庁 | C5: =準備1!B5 -> A000852 | D5: =IF(準備1!$F5="○","○","") | E5: =準備1!C5 -> 国家公務員ＩＣカードシステム | F5: =IF(準備1!H5=0,"-",ROUND(準備1!H5,-6)/1000000) -> 1 | G5: =IF(準備1!M5=0,"-",ROUND(準備1!M5,-6)/1000000) -> - | H5: =IF(準備1!N5=0,"-",ROUND(準備1!N5,-6)/1000000) -> 1 | I5: =IF(準備1!O5=0,"-",ROUND(準備1!O5,-6)/1000000) -> - | J5: =IF(準備1!P5=0,"-",ROUND(準備1!P5,-6)/1000000) -> 1 | K5: =IF(準備1!U5=0,"-",ROUND(準備1!U5,-6)/1000000) -> - | L5: =IF(準備1!V5=0,"-",ROUND(準備1!V5,-6)/1000000) -> 1 | M5: =IF(準備1!W5=0,"-",ROUND(準備1!W5,-6)/1000000) -> - | N5: =IF(準備1!X5=0,"-",ROUND(準備1!X5,-6)/1000000) -> 1 | O5: =IF(準備1!AA5=0,"-",ROUND(準備1!AA5,-6)/1000000) -> - | P5: =IF(準備1!AB5=0,"-",ROUND(準備1!AB5,-6)/1000000) -> 1 | Q5: =IF(準備1!AC5=0,"-",ROUND(準備1!AC5,-6)/1000000) -> -
A6: 2 | B6: =準備1!A6 -> 警察庁 | C6: =準備1!B6 -> A000863 | D6: =IF(準備1!$F6="○","○","") | E6: =準備1!C6 -> ＤＮＡ型鑑定支援装置 | F6: =IF(準備1!H6=0,"-",ROUND(準備1!H6,-6)/1000000) -> 20 | G6: =IF(準備1!M6=0,"-",ROUND(準備1!M6,-6)/1000000) -> - | H6: =IF(準備1!N6=0,"-",ROUND(準備1!N6,-6)/1000000) -> 20 | I6: =IF(準備1!O6=0,"-",ROUND(準備1!O6,-6)/1000000) -> - | J6: =IF(準備1!P6=0,"-",ROUND(準備1!P6,-6)/1000000) -> - | K6: =IF(準備1!U6=0,"-",ROUND(準備1!U6,-6)/1000000) -> - | L6: =IF(準備1!V6=0,"-",ROUND(準備1!V6,-6)/1000000) -> - | M6: =IF(準備1!W6=0,"-",ROUND(準備1!W6,-6)/1000000) -> - | N6: =IF(準備1!X6=0,"-",ROUND(準備1!X6,-6)/1000000) -> 45 | O6: =IF(準備1!AA6=0,"-",ROUND(準備1!AA6,-6)/1000000) -> 45 | P6: =IF(準備1!AB6=0,"-",ROUND(準備1!AB6,-6)/1000000) -> - | Q6: =IF(準備1!AC6=0,"-",ROUND(準備1!AC6,-6)/1000000) -> -
A7: 3 | B7: =準備1!A7 -> 警察庁 | C7: =準備1!B7 -> A000874 | D7: =IF(準備1!$F7="○","○","") | E7: =準備1!C7 -> 交通事故データ集計システム | F7: =IF(準備1!H7=0,"-",ROUND(準備1!H7,-6)/1000000) -> 2 | G7: =IF(準備1!M7=0,"-",ROUND(準備1!M7,-6)/1000000) -> - | H7: =IF(準備1!N7=0,"-",ROUND(準備1!N7,-6)/1000000) -> 2 | I7: =IF(準備1!O7=0,"-",ROUND(準備1!O7,-6)/1000000) -> - | J7: =IF(準備1!P7=0,"-",ROUND(準備1!P7,-6)/1000000) -> 2 | K7: =IF(準備1!U7=0,"-",ROUND(準備1!U7,-6)/1000000) -> - | L7: =IF(準備1!V7=0,"-",ROUND(準備1!V7,-6)/1000000) -> 2 | M7: =IF(準備1!W7=0,"-",ROUND(準備1!W7,-6)/1000000) -> - | N7: =IF(準備1!X7=0,"-",ROUND(準備1!X7,-6)/1000000) -> 4 | O7: =IF(準備1!AA7=0,"-",ROUND(準備1!AA7,-6)/1000000) -> - | P7: =IF(準備1!AB7=0,"-",ROUND(準備1!AB7,-6)/1000000) -> 4 | Q7: =IF(準備1!AC7=0,"-",ROUND(準備1!AC7,-6)/1000000) -> -
A8: 4 | B8: =準備1!A8 -> 警察庁 | C8: =準備1!B8 -> A000896 | D8: =IF(準備1!$F8="○","○","") | E8: =準備1!C8 -> 全国的情報処理センター用電子計算機 | F8: =IF(準備1!H8=0,"-",ROUND(準備1!H8,-6)/1000000) -> 2074 | G8: =IF(準備1!M8=0,"-",ROUND(準備1!M8,-6)/1000000) -> - | H8: =IF(準備1!N8=0,"-",ROUND(準備1!N8,-6)/1000000) -> 2074 | I8: =IF(準備1!O8=0,"-",ROUND(準備1!O8,-6)/1000000) -> - | J8: =IF(準備1!P8=0,"-",ROUND(準備1!P8,-6)/1000000) -> 3092 | K8: =IF(準備1!U8=0,"-",ROUND(準備1!U8,-6)/1000000) -> 1046 | L8: =IF(準備1!V8=0,"-",ROUND(準備1!V8,-6)/1000000) -> 2045 | M8: =IF(準備1!W8=0,"-",ROUND(準備1!W8,-6)/1000000) -> - | N8: =IF(準備1!X8=0,"-",ROUND(準備1!X8,-6)/1000000) -> 3958 | O8: =IF(準備1!AA8=0,"-",ROUND(準備1!AA8,-6)/1000000) -> 1923 | P8: =IF(準備1!AB8=0,"-",ROUND(準備1!AB8,-6)/1000000) -> 2035 | Q8: =IF(準備1!AC8=0,"-",ROUND(準備1!AC8,-6)/1000000) -> -
A9: 5 | B9: =準備1!A9 -> 警察庁 | C9: =準備1!B9 -> A000911 | D9: =IF(準備1!$F9="○","○","") | E9: =準備1!C9 -> 運転者管理システム（汎用機） | F9: =IF(準備1!H9=0,"-",ROUND(準備1!H9,-6)/1000000) -> 665 | G9: =IF(準備1!M9=0,"-",ROUND(準備1!M9,-6)/1000000) -> 142 | H9: =IF(準備1!N9=0,"-",ROUND(準備1!N9,-6)/1000000) -> 523 | I9: =IF(準備1!O9=0,"-",ROUND(準備1!O9,-6)/1000000) -> - | J9: =IF(準備1!P9=0,"-",ROUND(準備1!P9,-6)/1000000) -> 901 | K9: =IF(準備1!U9=0,"-",ROUND(準備1!U9,-6)/1000000) -> 124 | L9: =IF(準備1!V9=0,"-",ROUND(準備1!V9,-6)/1000000) -> 778 | M9: =IF(準備1!W9=0,"-",ROUND(準備1!W9,-6)/1000000) -> - | N9: =IF(準備1!X9=0,"-",ROUND(準備1!X9,-6)/1000000) -> 847 | O9: =IF(準備1!AA9=0,"-",ROUND(準備1!AA9,-6)/1000000) -> 70 | P9: =IF(準備1!AB9=0,"-",ROUND(準備1!AB9,-6)/1000000) -> 777 | Q9: =IF(準備1!AC9=0,"-",ROUND(準備1!AC9,-6)/1000000) -> -
A10: 6 | B10: =準備1!A10 -> 警察庁 | C10: =準備1!B10 -> A000922 | D10: =IF(準備1!$F10="○","○","") | E10: =準備1!C10 -> 運転免許証認証局 | F10: =IF(準備1!H10=0,"-",ROUND(準備1!H10,-6)/1000000) -> 38 | G10: =IF(準備1!M10=0,"-",ROUND(準備1!M10,-6)/1000000) -> - | H10: =IF(準備1!N10=0,"-",ROUND(準備1!N10,-6)/1000000) -> 38 | I10: =IF(準備1!O10=0,"-",ROUND(準備1!O10,-6)/1000000) -> - | J10: =IF(準備1!P10=0,"-",ROUND(準備1!P10,-6)/1000000) -> 38 | K10: =IF(準備1!U10=0,"-",ROUND(準備1!U10,-6)/1000000) -> - | L10: =IF(準備1!V10=0,"-",ROUND(準備1!V10,-6)/1000000) -> 38 | M10: =IF(準備1!W10=0,"-",ROUND(準備1!W10,-6)/1000000) -> - | N10: =IF(準備1!X10=0,"-",ROUND(準備1!X10,-6)/1000000) -> 277 | O10: =IF(準備1!AA10=0,"-",ROUND(準備1!AA10,-6)/1000000) -> 239 | P10: =IF(準備1!AB10=0,"-",ROUND(準備1!AB10,-6)/1000000) -> 38 | Q10: =IF(準備1!AC10=0,"-",ROUND(準備1!AC10,-6)/1000000) -> -
A11: 7 | B11: =準備1!A11 -> 警察庁 | C11: =準備1!B11 -> A000933 | D11: =IF(準備1!$F11="○","○","") | E11: =準備1!C11 -> 行政情報管理システム | F11: =IF(準備1!H11=0,"-",ROUND(準備1!H11,-6)/1000000) -> 68 | G11: =IF(準備1!M11=0,"-",ROUND(準備1!M11,-6)/1000000) -> 10 | H11: =IF(準備1!N11=0,"-",ROUND(準備1!N11,-6)/1000000) -> 58 | I11: =IF(準備1!O11=0,"-",ROUND(準備1!O11,-6)/1000000) -> - | J11: =IF(準備1!P11=0,"-",ROUND(準備1!P11,-6)/1000000) -> 819 | K11: =IF(準備1!U11=0,"-",ROUND(準備1!U11,-6)/1000000) -> 761 | L11: =IF(準備1!V11=0,"-",ROUND(準備1!V11,-6)/1000000) -> 58 | M11: =IF(準備1!W11=0,"-",ROUND(準備1!W11,-6)/1000000) -> - | N11: =IF(準備1!X11=0,"-",ROUND(準備1!X11,-6)/1000000) -> 871 | O11: =IF(準備1!AA11=0,"-",ROUND(準備1!AA11,-6)/1000000) -> 807 | P11: =IF(準備1!AB11=0,"-",ROUND(準備1!AB11,-6)/1000000) -> 64 | Q11: =IF(準備1!AC11=0,"-",ROUND(準備1!AC11,-6)/1000000) -> -
A12: 8 | B12: =準備1!A12 -> 警察庁 | C12: =準備1!B12 -> A000944 | D12: =IF(準備1!$F12="○","○","") | E12: =準備1!C12 -> 警察総合捜査情報システム | F12: =IF(準備1!H12=0,"-",ROUND(準備1!H12,-6)/1000000) -> 1744 | G12: =IF(準備1!M12=0,"-",ROUND(準備1!M12,-6)/1000000) -> - | H12: =IF(準備1!N12=0,"-",ROUND(準備1!N12,-6)/1000000) -> 1744 | I12: =IF(準備1!O12=0,"-",ROUND(準備1!O12,-6)/1000000) -> - | J12: =IF(準備1!P12=0,"-",ROUND(準備1!P12,-6)/1000000) -> 3000 | K12: =IF(準備1!U12=0,"-",ROUND(準備1!U12,-6)/1000000) -> 1256 | L12: =IF(準備1!V12=0,"-",ROUND(準備1!V12,-6)/1000000) -> 1744 | M12: =IF(準備1!W12=0,"-",ROUND(準備1!W12,-6)/1000000) -> - | N12: =IF(準備1!X12=0,"-",ROUND(準備1!X12,-6)/1000000) -> 3382 | O12: =IF(準備1!AA12=0,"-",ROUND(準備1!AA12,-6)/1000000) -> 1705 | P12: =IF(準備1!AB12=0,"-",ROUND(準備1!AB12,-6)/1000000) -> 1676 | Q12: =IF(準備1!AC12=0,"-",ROUND(準備1!AC12,-6)/1000000) -> -
A13: 9 | B13: =準備1!A13 -> 警察庁 | C13: =準備1!B13 -> A000955 | D13: =IF(準備1!$F13="○","○","") | E13: =準備1!C13 -> 指掌紋自動識別システム | F13: =IF(準備1!H13=0,"-",ROUND(準備1!H13,-6)/1000000) -> 3474 | G13: =IF(準備1!M13=0,"-",ROUND(準備1!M13,-6)/1000000) -> - | H13: =IF(準備1!N13=0,"-",ROUND(準備1!N13,-6)/1000000) -> 3474 | I13: =IF(準備1!O13=0,"-",ROUND(準備1!O13,-6)/1000000) -> - | J13: =IF(準備1!P13=0,"-",ROUND(準備1!P13,-6)/1000000) -> 3711 | K13: =IF(準備1!U13=0,"-",ROUND(準備1!U13,-6)/1000000) -> 224 | L13: =IF(準備1!V13=0,"-",ROUND(準備1!V13,-6)/1000000) -> 3487 | M13: =IF(準備1!W13=0,"-",ROUND(準備1!W13,-6)/1000000) -> - | N13: =IF(準備1!X13=0,"-",ROUND(準備1!X13,-6)/1000000) -> 3842 | O13: =IF(準備1!AA13=0,"-",ROUND(準備1!AA13,-6)/1000000) -> 434 | P13: =IF(準備1!AB13=0,"-",ROUND(準備1!AB13,-6)/1000000) -> 3408 | Q13: =IF(準備1!AC13=0,"-",ROUND(準備1!AC13,-6)/1000000) -> -
A14: 10 | B14: =準備1!A14 -> 警察庁 | C14: =準備1!B14 -> A000999 | D14: =IF(準備1!$F14="○","○","") | E14: =準備1!C14 -> 警察庁ＷＡＮシステム | F14: =IF(準備1!H14=0,"-",ROUND(準備1!H14,-6)/1000000) -> 1409 | G14: =IF(準備1!M14=0,"-",ROUND(準備1!M14,-6)/1000000) -> 279 | H14: =IF(準備1!N14=0,"-",ROUND(準備1!N14,-6)/1000000) -> 1130 | I14: =IF(準備1!O14=0,"-",ROUND(準備1!O14,-6)/1000000) -> - | J14: =IF(準備1!P14=0,"-",ROUND(準備1!P14,-6)/1000000) -> 1767 | K14: =IF(準備1!U14=0,"-",ROUND(準備1!U14,-6)/1000000) -> 633 | L14: =IF(準備1!V14=0,"-",ROUND(準備1!V14,-6)/1000000) -> 1134 | M14: =IF(準備1!W14=0,"-",ROUND(準備1!W14,-6)/1000000) -> - | N14: =IF(準備1!X14=0,"-",ROUND(準備1!X14,-6)/1000000) -> 1197 | O14: =IF(準備1!AA14=0,"-",ROUND(準備1!AA14,-6)/1000000) -> 11 | P14: =IF(準備1!AB14=0,"-",ROUND(準備1!AB14,-6)/1000000) -> 1186 | Q14: =IF(準備1!AC14=0,"-",ROUND(準備1!AC14,-6)/1000000) -> -
A15: 11 | B15: =準備1!A15 -> 警察庁 | C15: =準備1!B15 -> A001037 | D15: =IF(準備1!$F15="○","○","") | E15: =準備1!C15 -> オープンネットワークシステム | F15: =IF(準備1!H15=0,"-",ROUND(準備1!H15,-6)/1000000) -> 2002 | G15: =IF(準備1!M15=0,"-",ROUND(準備1!M15,-6)/1000000) -> 1029 | H15: =IF(準備1!N15=0,"-",ROUND(準備1!N15,-6)/1000000) -> 973 | I15: =IF(準備1!O15=0,"-",ROUND(準備1!O15,-6)/1000000) -> - | J15: =IF(準備1!P15=0,"-",ROUND(準備1!P15,-6)/1000000) -> 1235 | K15: =IF(準備1!U15=0,"-",ROUND(準備1!U15,-6)/1000000) -> 129 | L15: =IF(準備1!V15=0,"-",ROUND(準備1!V15,-6)/1000000) -> 1106 | M15: =IF(準備1!W15=0,"-",ROUND(準備1!W15,-6)/1000000) -> - | N15: =IF(準備1!X15=0,"-",ROUND(準備1!X15,-6)/1000000) -> 1067 | O15: =IF(準備1!AA15=0,"-",ROUND(準備1!AA15,-6)/1000000) -> - | P15: =IF(準備1!AB15=0,"-",ROUND(準備1!AB15,-6)/1000000) -> 1067 | Q15: =IF(準備1!AC15=0,"-",ROUND(準備1!AC15,-6)/1000000) -> -
A16: 12 | B16: =準備1!A16 -> 警察庁 | C16: =準備1!B16 -> A001048 | D16: =IF(準備1!$F16="○","○","") | E16: =準備1!C16 -> 受付システム | F16: =IF(準備1!H16=0,"-",ROUND(準備1!H16,-6)/1000000) -> 27 | G16: =IF(準備1!M16=0,"-",ROUND(準備1!M16,-6)/1000000) -> - | H16: =IF(準備1!N16=0,"-",ROUND(準備1!N16,-6)/1000000) -> 27 | I16: =IF(準備1!O16=0,"-",ROUND(準備1!O16,-6)/1000000) -> - | J16: =IF(準備1!P16=0,"-",ROUND(準備1!P16,-6)/1000000) -> 175 | K16: =IF(準備1!U16=0,"-",ROUND(準備1!U16,-6)/1000000) -> 147 | L16: =IF(準備1!V16=0,"-",ROUND(準備1!V16,-6)/1000000) -> 28 | M16: =IF(準備1!W16=0,"-",ROUND(準備1!W16,-6)/1000000) -> - | N16: =IF(準備1!X16=0,"-",ROUND(準備1!X16,-6)/1000000) -> 27 | O16: =IF(準備1!AA16=0,"-",ROUND(準備1!AA16,-6)/1000000) -> - | P16: =IF(準備1!AB16=0,"-",ROUND(準備1!AB16,-6)/1000000) -> 27 | Q16: =IF(準備1!AC16=0,"-",ROUND(準備1!AC16,-6)/1000000) -> -
... A52: 48 | B52: =準備1!A52 -> 警察庁 | C52: =準備1!B52 -> B007900 | D52: =IF(準備1!$F52="○","○","") | E52: =準備1!C52 -> Ｇ７セキュアウェブサイトアクセスシステム | F52: =IF(準備1!H52=0,"-",ROUND(準備1!H52,-6)/1000000) -> 1 | G52: =IF(準備1!M52=0,"-",ROUND(準備1!M52,-6)/1000000) -> - | H52: =IF(準備1!N52=0,"-",ROUND(準備1!N52,-6)/1000000) -> 1 | I52: =IF(準備1!O52=0,"-",ROUND(準備1!O52,-6)/1000000) -> - | J52: =IF(準備1!P52=0,"-",ROUND(準備1!P52,-6)/1000000) -> 1 | K52: =IF(準備1!U52=0,"-",ROUND(準備1!U52,-6)/1000000) -> - | L52: =IF(準備1!V52=0,"-",ROUND(準備1!V52,-6)/1000000) -> 1 | M52: =IF(準備1!W52=0,"-",ROUND(準備1!W52,-6)/1000000) -> - | N52: =IF(準備1!X52=0,"-",ROUND(準備1!X52,-6)/1000000) -> 1 | O52: =IF(準備1!AA52=0,"-",ROUND(準備1!AA52,-6)/1000000) -> - | P52: =IF(準備1!AB52=0,"-",ROUND(準備1!AB52,-6)/1000000) -> 1 | Q52: =IF(準備1!AC52=0,"-",ROUND(準備1!AC52,-6)/1000000) -> -
B53: =E1 -> 警察庁 | D53: =COUNTIF(D5:D52,"○") -> 5 | F53: =IF(準備1!H240=0,"-",ROUND(準備1!H240,-6)/1000000) -> 18380 | G53: =IF(準備1!M240=0,"-",ROUND(準備1!M240,-6)/1000000) -> 4443 | H53: =IF(準備1!N240=0,"-",ROUND(準備1!N240,-6)/1000000) -> 12021 | I53: =IF(準備1!O240=0,"-",ROUND(準備1!O240,-6)/1000000) -> 1916 | J53: =IF(準備1!P240=0,"-",ROUND(準備1!P240,-6)/1000000) -> 26297 | K53: =IF(準備1!U240=0,"-",ROUND(準備1!U240,-6)/1000000) -> 9180 | L53: =IF(準備1!V240=0,"-",ROUND(準備1!V240,-6)/1000000) -> 15568 | M53: =IF(準備1!W240=0,"-",ROUND(準備1!W240,-6)/1000000) -> 1549 | N53: =IF(準備1!X240=0,"-",ROUND(準備1!X240,-6)/1000000) -> 26512 | O53: =IF(準備1!AA240=0,"-",ROUND(準備1!AA240,-6)/1000000) -> 9424 | P53: =IF(準備1!AB240=0,"-",ROUND(準備1!AB240,-6)/1000000) -> 15237 | Q53: =IF(準備1!AC240=0,"-",ROUND(準備1!AC240,-6)/1000000) -> 1852

Sheet 公表
C1: 警察庁 | D1: の各システム経費の実績（令和２年度～令和４年度）
O2: 単位（百万円）
A3: No | B3: 府省名 | C3: システム名称 | D3: 令和２年度 | H3: 令和３年度 | L3: 令和４年度
D4: 合計 | E4: 整備 | F4: 運用 | G4: その他 | H4: 合計 | I4: 整備 | J4: 運用 | K4: その他 | L4: 合計 | M4: 整備 | N4: 運用 | O4: その他
A5: 1 | B5: 警察庁 | C5: 国家公務員ＩＣカードシステム | D5: 1 | E5: - | F5: 1 | G5: - | H5: 1 | I5: - | J5: 1 | K5: - | L5: 1 | M5: - | N5: 1 | O5: -
A6: 2 | B6: 警察庁 | C6: ＤＮＡ型鑑定支援装置 | D6: 20 | E6: - | F6: 20 | G6: - | H6: - | I6: - | J6: - | K6: - | L6: 45 | M6: 45 | N6: - | O6: -
A7: 3 | B7: 警察庁 | C7: 交通事故データ集計システム | D7: 2 | E7: - | F7: 2 | G7: - | H7: 2 | I7: - | J7: 2 | K7: - | L7: 4 | M7: - | N7: 4 | O7: -
A8: 4 | B8: 警察庁 | C8: 全国的情報処理センター用電子計算機 | D8: 2074 | E8: - | F8: 2074 | G8: - | H8: 3092 | I8: 1046 | J8: 2045 | K8: - | L8: 3958 | M8: 1923 | N8: 2035 | O8: -
A9: 5 | B9: 警察庁 | C9: 運転者管理システム（汎用機） | D9: 665 | E9: 142 | F9: 523 | G9: - | H9: 901 | I9: 124 | J9: 778 | K9: - | L9: 847 | M9: 70 | N9: 777 | O9: -
A10: 6 | B10: 警察庁 | C10: 運転免許証認証局 | D10: 38 | E10: - | F10: 38 | G10: - | H10: 38 | I10: - | J10: 38 | K10: - | L10: 277 | M10: 239 | N10: 38 | O10: -
A11: 7 | B11: 警察庁 | C11: 行政情報管理システム | D11: 68 | E11: 10 | F11: 58 | G11: - | H11: 819 | I11: 761 | J11: 58 | K11: - | L11: 871 | M11: 807 | N11: 64 | O11: -
A12: 8 | B12: 警察庁 | C12: 警察総合捜査情報システム | D12: 1744 | E12: - | F12: 1744 | G12: - | H12: 3000 | I12: 1256 | J12: 1744 | K12: - | L12: 3382 | M12: 1705 | N12: 1676 | O12: -
A13: 9 | B13: 警察庁 | C13: 指掌紋自動識別システム | D13: 3474 | E13: - | F13: 3474 | G13: - | H13: 3711 | I13: 224 | J13: 3487 | K13: - | L13: 3842 | M13: 434 | N13: 3408 | O13: -
A14: 10 | B14: 警察庁 | C14: 警察庁ＷＡＮシステム | D14: 1409 | E14: 279 | F14: 1130 | G14: - | H14: 1767 | I14: 633 | J14: 1134 | K14: - | L14: 1197 | M14: 11 | N14: 1186 | O14: -
A15: 11 | B15: 警察庁 | C15: オープンネットワークシステム | D15: 2002 | E15: 1029 | F15: 973 | G15: - | H15: 1235 | I15: 129 | J15: 1106 | K15: - | L15: 1067 | M15: - | N15: 1067 | O15: -
A16: 12 | B16: 警察庁 | C16: 受付システム | D16: 27 | E16: - | F16: 27 | G16: - | H16: 175 | I16: 147 | J16: 28 | K16: - | L16: 27 | M16: - | N16: 27 | O16: -
A17: 13 | B17: 警察庁 | C17: 不当要求情報管理機関支援システム | D17: 16 | E17: - | F17: 16 | G17: - | H17: 14 | I17: - | J17: 14 | K17: - | L17: 79 | M17: 70 | N17: 9 | O17: -
A18: 14 | B18: 警察庁 | C18: 人事・給与関係業務情報システム（警察庁） | D18: 105 | E18: - | F18: 105 | G18: - | H18: 85 | I18: - | J18: 85 | K18: - | L18: 60 | M18: - | N18: 60 | O18: -
A19: 15 | B19: 警察庁 | C19: 警察庁ウェブサイト | D19: 73 | E19: 42 | F19: 31 | G19: - | H19: 13 | I19: - | J19: 13 | K19: - | L19: 13 | M19: - | N19: 13 | O19: -
A20: 16 | B20: 警察庁 | C20: ワールドワイド電子メールシステム | D20: 9 | E20: - | F20: 9 | G20: - | H20: 10 | I20: - | J20: 10 | K20: - | L20: 10 | M20: - | N20: 10 | O20: -
A21: 17 | B21: 警察庁 | C21: ＩＣＰＯメッセージ交換システム | D21: 39 | E21: - | F21: 39 | G21: - | H21: 39 | I21: - | J21: 39 | K21: - | L21: 39 | M21: - | N21: 39 | O21: -
A22: 18 | B22: 警察庁 | C22: 科学警察研究所研究用インターネット接続ＬＡＮ | D22: 36 | E22: 3 | F22: 33 | G22: - | H22: 31 | I22: 3 | J22: 28 | K22: - | L22: 36 | M22: 3 | N22: 33 | O22: -
A23: 19 | B23: 警察庁 | C23: 鑑定管理システム | D23: 0 | E23: - | F23: 0 | G23: - | H23: 0 | I23: - | J23: 0 | K23: - | L23: 0 | M23: - | N23: 0 | O23: -
A24: 20 | B24: 警察庁 | C24: 事前旅客情報システム及び外国人個人識別情報認証システム | D24: 703 | E24: 394 | F24: 309 | G24: - | H24: 850 | I24: 405 | J24: 445 | K24: - | L24: 544 | M24: 363 | N24: 181 | O24: -
A25: 21 | B25: 警察庁 | C25: 組織犯罪情報管理システム及び特定金融情報データベースシステム | D25: 467 | E25: - | F25: 467 | G25: - | H25: 562 | I25: 89 | J25: 473 | K25: - | L25: 523 | M25: - | N25: 523 | O25: -
A26: 22 | B26: 警察庁 | C26: １１０番アプリシステム | D26: 75 | E26: - | F26: 75 | G26: - | H26: 75 | I26: - | J26: 75 | K26: - | L26: 223 | M26: 149 | N26: 74 | O26: -
A27: 23 | B27: 警察庁 | C27: 交通情報ネットワークセキュリティ装置 | D27: 33 | E27: - | F27: 33 | G27: - | H27: 34 | I27: 1 | J27: 33 | K27: - | L27: 33 | M27: - | N27: 33 | O27: -
A28: 24 | B28: 警察庁 | C28: 交通規制情報収集・管理システム | D28: 81 | E28: 21 | F28: 60 | G28: - | H28: 36 | I28: - | J28: 36 | K28: - | L28: 36 | M28: - | N28: 36 | O28: -
A29: 25 | B29: 警察庁 | C29: 広域交通管制システム | D29: 431 | E29: 379 | F29: 52 | G29: - | H29: 194 | I29: - | J29: 194 | K29: - | L29: 195 | M29: - | N29: 195 | O29: -
A30: 26 | B30: 警察庁 | C30: 運転者管理システム | D30: 587 | E30: 587 | F30: - | G30: - | H30: 3741 | I30: 3741 | J30: - | K30: - | L30: 1186 | M30: 1142 | N30: 44 | O30: -
A31: 27 | B31: 警察庁 | C31: 共通基盤システム | D31: 1557 | E31: 1557 | F31: - | G31: - | H31: 2968 | I31: - | J31: 2968 | K31: - | L31: 4310 | M31: 1016 | N31: 3294 | O31: -
A32: 28 | B32: 警察庁 | C32: 運転免許証の更新システム | D32: - | E32: - | F32: - | G32: - | H32: 275 | I32: 275 | J32: - | K32: - | L32: 334 | M32: 334 | N32: - | O32: -
A33: 29 | B33: 警察庁 | C33: 行政手続オンライン化 | D33: - | E33: - | F33: - | G33: - | H33: 15 | I33: 15 | J33: - | K33: - | L33: 3 | M33: - | N33: 3 | O33: -
A34: 30 | B34: 警察庁 | C34: 小型無人機等所有者情報等照会システム | D34: - | E34: - | F34: - | G34: - | H34: 360 | I34: 331 | J34: 29 | K34: - | L34: 131 | M34: 107 | N34: 23 | O34: -
A35: 31 | B35: 警察庁 | C35: 都道府県の交通管制システム | D35: 1916 | E35: - | F35: - | G35: 1916 | H35: 1549 | I35: - | J35: - | K35: 1549 | L35: 1852 | M35: - | N35: - | O35: 1852
A36: 32 | B36: 警察庁 | C36: 情報管理システム等共通経費 | D36: 714 | E36: - | F36: 714 | G36: - | H36: 681 | I36: - | J36: 681 | K36: - | L36: 301 | M36: 8 | N36: 292 | O36: -
A37: 33 | B37: 警察庁 | C37: ＳＮＳ情報検索システム | D37: - | E37: - | F37: - | G37: - | H37: 10 | I37: - | J37: 10 | K37: - | L37: 7 | M37: - | N37: 7 | O37: -
A38: 34 | B38: 警察庁 | C38: 航空機運用総合調整システム（ＦＯＣＳ）（警察庁） | D38: - | E38: - | F38: - | G38: - | H38: - | I38: - | J38: - | K38: - | L38: 81 | M38: - | N38: 81 | O38: -
A39: 35 | B39: 警察庁 | C39: 相談業務・人身安全関連業務等システム | D39: - | E39: - | F39: - | G39: - | H39: - | I39: - | J39: - | K39: - | L39: 996 | M39: 996 | N39: - | O39: -
A40: 36 | B40: 警察庁 | C40: ファイル共有ソフト専用端末 | D40: 0 | E40: 0 | F40: 0 | G40: - | H40: 0 | I40: - | J40: 0 | K40: - | L40: 0 | M40: - | N40: 0 | O40: -
...

Sheet リスト
A1: 内閣官房
A2: 内閣法制局
A3: 人事院
A4: 内閣府
A5: 宮内庁
A6: 公正取引委員会
A7: 警察庁
A8: 個人情報保護委員会
A9: カジノ管理委員会
A10: 金融庁
A11: 消費者庁
A12: こども家庭庁
... A26: デジタル庁
